BEGIN:VCALENDAR
VERSION:2.0
PRODID:-//DP Pro Event Calendar//3.0.4//EN
BEGIN:VEVENT
UID:dfc42706-a082-42f3-9f98-d37a7d9c40b5
DTSTART;TZID=Europe/Zurich:20260605T000000
DTEND;TZID=Europe/Zurich:20260605T000000
DTSTAMP:20250407T180931Z
SUMMARY:Stundenbeginn Tambouren
DESCRIPTION:\n \n \n \n 
LOCATION:
URL:
END:VEVENT
END:VCALENDAR