BEGIN:VCALENDAR
VERSION:2.0
PRODID:-//DP Pro Event Calendar//3.0.4//EN
BEGIN:VEVENT
UID:a33a4434-b85e-43cf-bfd4-780c7afd2681
DTSTART;TZID=Europe/Zurich:20260606T000000
DTEND;TZID=Europe/Zurich:20260606T000000
DTSTAMP:20260328T203539Z
SUMMARY:Keller/Estrich Räumaktion
DESCRIPTION:\n Es braucht viele helfende Hände!\n 
LOCATION:
URL:
END:VEVENT
END:VCALENDAR