BEGIN:VCALENDAR
VERSION:2.0
PRODID:-//DP Pro Event Calendar//3.0.4//EN
BEGIN:VEVENT
UID:bf02b6cb-9509-4db6-ba8e-a21755d63401
DTSTART;TZID=Europe/Zurich:20260613T122000
DTEND;TZID=Europe/Zurich:20260613T180000
DTSTAMP:20190413T201443Z
SUMMARY:Clique Grümpeli
DESCRIPTION:
LOCATION:
URL:
END:VEVENT
END:VCALENDAR