BEGIN:VCALENDAR
VERSION:2.0
PRODID:-//DP Pro Event Calendar//3.0.4//EN
BEGIN:VEVENT
UID:3cc95c2f-5152-45bb-80c5-5569f0268167
DTSTART;TZID=Europe/Zurich:20260619T000000
DTEND;TZID=Europe/Zurich:20260619T000000
DTSTAMP:20260328T203800Z
SUMMARY:Tambourenweekend
DESCRIPTION:\n \n zurück\n \n \n \n \n \n 
LOCATION:
URL:
END:VEVENT
END:VCALENDAR