BEGIN:VCALENDAR
VERSION:2.0
PRODID:-//DP Pro Event Calendar//3.0.4//EN
BEGIN:VEVENT
UID:e999c30c-a7fd-4a38-a270-599753a01dbd
DTSTART;TZID=Europe/Zurich:20260904T190000
DTEND;TZID=Europe/Zurich:20260904T201500
DTSTAMP:20190413T201646Z
SUMMARY:Jubilareständeli
DESCRIPTION:
LOCATION:
URL:
END:VEVENT
END:VCALENDAR