BEGIN:VCALENDAR
VERSION:2.0
PRODID:-//DP Pro Event Calendar//3.0.4//EN
BEGIN:VEVENT
UID:c14da4ce-81f5-4c02-be25-0ea869d65b37
DTSTART;TZID=Europe/Zurich:20260905T110000
DTEND;TZID=Europe/Zurich:20260905T120000
DTSTAMP:20190413T201542Z
SUMMARY:Momoständeli &amp\; Gundeli Walk
DESCRIPTION:
LOCATION:
URL:
END:VEVENT
END:VCALENDAR